BEGIN:VCALENDAR
VERSION:2.0
PRODID:-//Tukios.com/
BEGIN:VEVENT
UID:2c78bdaf-8498-405c-bb49-b8befc41e26c@www.vandenbergfuneralhome.com
DTSTAMP:20260420T202516Z
DTSTART:20260423T163000Z
DTEND:20260423T170000Z
SUMMARY:Graveside Service
DESCRIPTION:
URL:https://www.vandenbergfuneralhome.com/obituaries/mary-willin
LOCATION:     
GEO:0;0
END:VEVENT
END:VCALENDAR